BEGIN:VCALENDAR
VERSION:2.0
PRODID:-//www.deutsche-schachjugend.de//NONSGML kigkonsult.se iCalcreator 2
 .30//DE
CALSCALE:GREGORIAN
METHOD:PUBLISH
UID:www.deutsche-schachjugend.de
X-WR-CALNAME;LANGUAGE=de:Deutsche Schachjugend
X-WR-CALDESC;LANGUAGE=de:Kalender der Deutschen Schachjugend
X-WR-TIMEZONE;LANGUAGE=de:Europe/Berlin
BEGIN:VTIMEZONE
TZID:Europe/Berlin
BEGIN:STANDARD
TZNAME;LANGUAGE=de:CET
DTSTART:20251026T030000
TZOFFSETFROM:+0200
TZOFFSETTO:+0100
RDATE:20261025T030000
END:STANDARD
BEGIN:DAYLIGHT
TZNAME;LANGUAGE=de:CEST
DTSTART:20250330T020000
TZOFFSETFROM:+0100
TZOFFSETTO:+0200
RDATE:20260329T020000
RDATE:20270328T020000
END:DAYLIGHT
END:VTIMEZONE
BEGIN:VEVENT
UID:2026/rkst-12@deutsche-schachjugend.de
DTSTAMP:20260411T185612Z
CATEGORIES;LANGUAGE=de:Einzelturnier\, Regionales Kinderschachturnier
DESCRIPTION;LANGUAGE=de:Alle Details sind in der Ausschreibung zu finden.\n
DTSTART;VALUE=DATE:20260410
DTEND;VALUE=DATE:20260413
GEO:+52.128198;+11.632181
LOCATION;LANGUAGE=de:Jugendherberge Magdeburg\, Leiterstraße 10\, Magdeburg
SUMMARY;LANGUAGE=de:RKST in Magdeburg Gruppe Rosa
URL:https://www.deutsche-schachjugend.de/termine/2026/rkst-12/
END:VEVENT
BEGIN:VEVENT
UID:2026/anmeldung-4@deutsche-schachjugend.de
DTSTAMP:20260411T185623Z
CATEGORIES;LANGUAGE=de:Einzeltermin
DESCRIPTION:
DTSTART;TZID=Europe/Berlin:20260411T093000
DTEND;TZID=Europe/Berlin:20260411T100000
LOCATION:
SUMMARY;LANGUAGE=de:Anmeldung
URL:https://www.deutsche-schachjugend.de/termine/2026/rkst-12/
END:VEVENT
BEGIN:VEVENT
UID:2026/rkst-12/runde/1@deutsche-schachjugend.de
DTSTAMP:20260411T185623Z
CATEGORIES;LANGUAGE=de:Runde
DESCRIPTION:
DTSTART;TZID=Europe/Berlin:20260411T103000
DURATION:PT1H
LOCATION:
SUMMARY;LANGUAGE=de:1. Runde
URL:https://www.deutsche-schachjugend.de/termine/2026/rkst-12/
END:VEVENT
BEGIN:VEVENT
UID:2026/rkst-12/runde/2@deutsche-schachjugend.de
DTSTAMP:20260411T185623Z
CATEGORIES;LANGUAGE=de:Runde
DESCRIPTION:
DTSTART;TZID=Europe/Berlin:20260411T123000
DURATION:PT1H
LOCATION:
SUMMARY;LANGUAGE=de:2. Runde
URL:https://www.deutsche-schachjugend.de/termine/2026/rkst-12/
END:VEVENT
BEGIN:VEVENT
UID:2026/rkst-12/runde/3@deutsche-schachjugend.de
DTSTAMP:20260411T185623Z
CATEGORIES;LANGUAGE=de:Runde
DESCRIPTION:
DTSTART;TZID=Europe/Berlin:20260411T143000
DURATION:PT1H
LOCATION:
SUMMARY;LANGUAGE=de:3. Runde
URL:https://www.deutsche-schachjugend.de/termine/2026/rkst-12/
END:VEVENT
BEGIN:VEVENT
UID:2026/rkst-12/runde/4@deutsche-schachjugend.de
DTSTAMP:20260411T185623Z
CATEGORIES;LANGUAGE=de:Runde
DESCRIPTION:
DTSTART;TZID=Europe/Berlin:20260412T090000
DURATION:PT1H
LOCATION:
SUMMARY;LANGUAGE=de:4. Runde
URL:https://www.deutsche-schachjugend.de/termine/2026/rkst-12/
END:VEVENT
BEGIN:VEVENT
UID:2026/rkst-12/runde/5@deutsche-schachjugend.de
DTSTAMP:20260411T185623Z
CATEGORIES;LANGUAGE=de:Runde
DESCRIPTION:
DTSTART;TZID=Europe/Berlin:20260412T110000
DURATION:PT1H
LOCATION:
SUMMARY;LANGUAGE=de:5. Runde
URL:https://www.deutsche-schachjugend.de/termine/2026/rkst-12/
END:VEVENT
BEGIN:VEVENT
UID:2026/siegerehrung-12@deutsche-schachjugend.de
DTSTAMP:20260411T185623Z
CATEGORIES;LANGUAGE=de:Einzeltermin
DESCRIPTION:
DTSTART;TZID=Europe/Berlin:20260412T140000
DURATION:PT1H
LOCATION:
SUMMARY;LANGUAGE=de:Siegerehrung
URL:https://www.deutsche-schachjugend.de/termine/2026/rkst-12/
END:VEVENT
END:VCALENDAR