BEGIN:VCALENDAR
VERSION:2.0
PRODID:-//www.deutsche-schachjugend.de//NONSGML kigkonsult.se iCalcreator 2
 .30//DE
CALSCALE:GREGORIAN
METHOD:PUBLISH
UID:www.deutsche-schachjugend.de
X-WR-CALNAME;LANGUAGE=de:Deutsche Schachjugend
X-WR-CALDESC;LANGUAGE=de:Kalender der Deutschen Schachjugend
X-WR-TIMEZONE;LANGUAGE=de:Europe/Berlin
BEGIN:VTIMEZONE
TZID:Europe/Berlin
BEGIN:STANDARD
TZNAME;LANGUAGE=de:CET
DTSTART:20251026T030000
TZOFFSETFROM:+0200
TZOFFSETTO:+0100
RDATE:20261025T030000
RDATE:20271031T030000
END:STANDARD
BEGIN:DAYLIGHT
TZNAME;LANGUAGE=de:CEST
DTSTART:20250330T020000
TZOFFSETFROM:+0100
TZOFFSETTO:+0200
RDATE:20260329T020000
RDATE:20270328T020000
RDATE:20280326T020000
END:DAYLIGHT
END:VTIMEZONE
BEGIN:VEVENT
UID:2026/onlineseminar-8@deutsche-schachjugend.de
DTSTAMP:20260417T211337Z
CATEGORIES;LANGUAGE=de:Seminar\, Onlineseminar C-Trainer:in
DESCRIPTION;LANGUAGE=de:Für die Trainer:innen-Ausbildung der DSJ müssen fün
 f Online-Module besucht werden. Themen:\n\n\nSportorganisationen\nVersiche
 rungs- &amp\; Rechtsfragen\nSport und Gesundheit\nSchachgeschichte\nOnline
 -Prüfung über die vier Themen\n\n\nAlle Termine unter Onlineseminare.\n\nD
 ie Prüfung wird am letzten Termin (17.12.26) stattfinden\, die Reihenfolge
  der anderen vier Module steht noch nicht fest.\n\nDie Workshops finden on
 line über unser Videokonferenzsystem BigBlueButton statt. Die Zugangsdaten
  versenden wir wenige Stunden vor dem Workshop per Mail an alle Angemeldet
 en. Die Anmeldung ist bis zum Vorabend des Workshops möglich.\n\nDie Onlin
 e-Workshops richten sich primär an Teilnehmende der C-Trainer:innen-Ausbil
 dung der DSJ. Interessierte außerhalb der Ausbildung sind aber ebenfalls h
 erzlich Willkommen!\n\nKosten\n\nDie Teilnahme ist kostenlos.\n\nAusbildun
 g\n\nDer Lehrgang wird für die Trainer:innen-Ausbildung der DSJ mit 3 LE a
 nerkannt.\n
DTSTART;TZID=Europe/Berlin:20261217T193000
DTEND;TZID=Europe/Berlin:20261217T214500
LOCATION;LANGUAGE=de:Internet\, Internet
SUMMARY;LANGUAGE=de:Onlineseminar C-Trainer:innen-Ausbildung 5 – Prüfung
URL:https://www.deutsche-schachjugend.de/termine/2026/onlineseminar-8/
END:VEVENT
END:VCALENDAR