BEGIN:VCALENDAR
VERSION:2.0
PRODID:-//www.deutsche-schachjugend.de//NONSGML kigkonsult.se iCalcreator 2
 .30//DE
CALSCALE:GREGORIAN
METHOD:PUBLISH
UID:www.deutsche-schachjugend.de
X-WR-CALNAME;LANGUAGE=de:Deutsche Schachjugend
X-WR-CALDESC;LANGUAGE=de:Kalender der Deutschen Schachjugend
X-WR-TIMEZONE;LANGUAGE=de:Europe/Berlin
BEGIN:VTIMEZONE
TZID:Europe/Berlin
BEGIN:STANDARD
TZNAME;LANGUAGE=de:CET
DTSTART:20251026T030000
TZOFFSETFROM:+0200
TZOFFSETTO:+0100
RDATE:20261025T030000
RDATE:20271031T030000
END:STANDARD
BEGIN:DAYLIGHT
TZNAME;LANGUAGE=de:CEST
DTSTART:20250330T020000
TZOFFSETFROM:+0100
TZOFFSETTO:+0200
RDATE:20260329T020000
RDATE:20270328T020000
END:DAYLIGHT
END:VTIMEZONE
BEGIN:VEVENT
UID:2026/deutsch-japanischer@deutsche-schachjugend.de
DTSTAMP:20260420T090952Z
CATEGORIES;LANGUAGE=de:Austausch
DESCRIPTION;LANGUAGE=de:Die Teilnahme am Austausch 2026 ist nur Teilnehmend
 en der gastgebenden Vereine aus 2025 möglich.\n\n\n\n\n\nDu bist im Japanf
 ieber und kannst es kaum erwarten in das Land der aufgehenden Sonne zu rei
 sen? Genau das bietet Dir der Deutsch-Japanische Simultanaustausch! Sei da
 bei und gewinne Einblicke in die japanische Kultur und ihre Sportstrukture
 n. Lass Dich von der typisch japanischen Herzlichkeit verzaubern und tauch
 e in das kulinarische Traumland ein. Treffe neue Leute\, knüpfe internatio
 nale Kontakte und erkunde gemeinsam mit uns das Land.\n\nDer Austausch wir
 d von der Deutschen Sportjugend geleitet. Insgesamt 100 Jugendliche aus de
 n verschiedensten Sportbereichen aus ganz Deutschland nehmen daran teil. D
 ie Deutsche Schachjugend beteiligt sich mit einer Gruppe von acht Schachsp
 ieler:innen.\n\n\n\n\n\nIn Japan angekommen erwartet Dich zunächst ein meh
 rtägiges gemeinsames Zentralprogramm in Tokyo. Anschließend reisen die ein
 zelnen Gruppen\, in Begleitung eines Dolmetschers\, allein weiter zu ihrer
  jeweiligen Partnerpräfektur. Für die Gruppe der Deutschen Schachjugend is
 t das die Insel Kyushu\, welche im Süden Japans liegt. Dort bist Du knapp 
 2 Wochen zu Gast bei japanischen Gastfamilien. Zum Ende des Aufenthalts tr
 ifft sich dann die gesamte Delegation zum abschließenden Zentralprogramm w
 ieder in Tokyo.\n\nZiel ist es\, durch gemeinsame sportliche Erlebnisse de
 n zivilgesellschaftlichen Dialog zwischen Jugendlichen beider Länder zu st
 ärken. In einem umfangreichen Programm bekommst Du Einblicke in Sport\, Sp
 rache\, Politik und vieles mehr. Auf Kyushu wirst Du viel über das Land un
 d die Lebensgewohnheiten lernen. Dazu gehört auch mit Stäbchen zu essen un
 d verschiedene Nationalgerichte zu probieren. Unter dem Motto “Sport verbi
 ndet uns!” werden unsere japanischen Freunde Dir auch Einblicke in traditi
 onelle japanische Sportarten geben\, die Du dann natürlich auch selber aus
 probieren darfst!\n\n\n\n\n\nUm Dich bestmöglich auf den Aufenthalt vorzub
 ereiten\, finden gleich zwei Vorbereitungstreffen statt. So kannst Du wich
 tige Fragen vorweg klären und erhältst erste grundlegende Informationen üb
 er Japan. Darunter fällt beispielsweise die Vorbereitung für die Gruppenpr
 äsentation\, welche jede Delegationsgruppe erstellen muss. Die Teilnahme a
 n beiden Vorbereitungstreffen ist Voraussetzung\, um an dem Austausch teil
 nehmen zu können.\n\nAnsprechpartner:\n\nBei Fragen rund um Japan steht Di
 r Julian Schwarzat mit Rat und Tat zur Seite. E-Mail: &#115\;&#99\;&#104\;
 w&#x61\;&#x72\;&#x7a\;&#x61\;&#x74\;&#64\;&#100\;&#101\;&#117\;&#116\;s&#x
 63\;&#x68\;&#x65\;&#x2d\;&#x73\;&#99\;&#104\;&#97\;&#99\;&#104\;j&#x75\;&#
 x67\;&#x65\;&#x6e\;&#x64\;&#46\;&#100\;&#101\;\n
DTSTART;VALUE=DATE:20260726
DTEND;VALUE=DATE:20260811
GEO:+36.574844;+139.239418
LOCATION;LANGUAGE=de:Japan\, Japan
SUMMARY;LANGUAGE=de:Deutsch-Japanischer Simultanaustausch
URL:https://www.deutsche-schachjugend.de/termine/2026/deutsch-japanischer/
END:VEVENT
END:VCALENDAR